OziExplorer Map Data File Version 2.2
3.114.02.jpg
C:\Documents and Settings\mawaian\My Documents\T735 Map Series Complete\03.114\3.114.02.jpg
1 ,Map Code,
Timbalai 1948,WGS 84, 0.0000, 0.0000,WGS 84
Reserved 1
Reserved 2
Magnetic Variation,,,E
Map Projection,Latitude/Longitude,PolyCal,No,AutoCalOnly,No,BSBUseWPX,No
Point01,xy, 194, 326,in, deg, 4, 00,N, 114, 15,E, grid, , , ,N
Point02,xy, 4584, 329,in, deg, 4, 00,N, 114, 30,E, grid, , , ,N
Point03,xy, 4582, 4669,in, deg, 3, 45,N, 114, 30,E, grid, , , ,N
Point04,xy, 192, 4666,in, deg, 3, 45,N, 114, 15,E, grid, , , ,N
Point05,xy, , ,in, deg, , ,N, , ,E, grid, , , ,N
Point06,xy, , ,in, deg, , ,N, , ,E, grid, , , ,N
Point07,xy, , ,in, deg, , ,N, , ,E, grid, , , ,N
Point08,xy, , ,in, deg, , ,N, , ,E, grid, , , ,N
Point09,xy, , ,in, deg, , ,N, , ,E, grid, , , ,N
Point10,xy, , ,in, deg, , ,, , ,, grid, , , ,
Point11,xy, , ,in, deg, , ,, , ,, grid, , , ,
Point12,xy, , ,in, deg, , ,, , ,, grid, , , ,
Point13,xy, , ,in, deg, , ,, , ,, grid, , , ,
Point14,xy, , ,in, deg, , ,, , ,, grid, , , ,
Point15,xy, , ,in, deg, , ,, , ,, grid, , , ,
Point16,xy, , ,in, deg, , ,, , ,, grid, , , ,
Point17,xy, , ,in, deg, , ,, , ,, grid, , , ,
Point18,xy, , ,in, deg, , ,, , ,, grid, , , ,
Point19,xy, , ,in, deg, , ,, , ,, grid, , , ,
Point20,xy, , ,in, deg, , ,, , ,, grid, , , ,
Point21,xy, , ,in, deg, , ,, , ,, grid, , , ,
Point22,xy, , ,in, deg, , ,, , ,, grid, , , ,
Point23,xy, , ,in, deg, , ,, , ,, grid, , , ,
Point24,xy, , ,in, deg, , ,, , ,, grid, , , ,
Point25,xy, , ,in, deg, , ,, , ,, grid, , , ,
Point26,xy, , ,in, deg, , ,, , ,, grid, , , ,
Point27,xy, , ,in, deg, , ,, , ,, grid, , , ,
Point28,xy, , ,in, deg, , ,, , ,, grid, , , ,
Point29,xy, , ,in, deg, , ,, , ,, grid, , , ,
Point30,xy, , ,in, deg, , ,, , ,, grid, , , ,
Projection Setup,,,,,,,,,,
Map Feature = MF ; Map Comment = MC These follow if they exist
Track File = TF These follow if they exist
Moving Map Parameters = MM? These follow if they exist
MM0,Yes
MMPNUM,4
MMPXY,1,0,0
MMPXY,2,4774,0
MMPXY,3,4774,6235
MMPXY,4,0,6235
MMPLL,1, 114.238944, 4.018771
MMPLL,2, 114.510811, 4.018959
MMPLL,3, 114.510975, 3.659800
MMPLL,4, 114.239107, 3.659612
MM1B,6.314003
LL Grid Setup
LLGRID,Yes,1 Min,Yes,0,0,0,1 Min,0,16777215,7,1,Yes,x
MOP,Map Open Position,0,0
IWH,Map Image Width/Height,4774,6235
